BEGIN:VCALENDAR
VERSION:2.0
PRODID:-//Leadership Burbank - ECPv6.15.20//NONSGML v1.0//EN
CALSCALE:GREGORIAN
METHOD:PUBLISH
X-ORIGINAL-URL:https://leadershipburbank.org
X-WR-CALDESC:Events for Leadership Burbank
REFRESH-INTERVAL;VALUE=DURATION:PT1H
X-Robots-Tag:noindex
X-PUBLISHED-TTL:PT1H
BEGIN:VTIMEZONE
TZID:UTC
BEGIN:STANDARD
TZOFFSETFROM:+0000
TZOFFSETTO:+0000
TZNAME:UTC
DTSTART:20240101T000000
END:STANDARD
END:VTIMEZONE
BEGIN:VEVENT
DTSTART;TZID=UTC:20250416T140000
DTEND;TZID=UTC:20250416T220000
DTSTAMP:20260425T211649
CREATED:20250321T133900Z
LAST-MODIFIED:20250325T140123Z
UID:15084-1744812000-1744840800@leadershipburbank.org
SUMMARY:Dine In or Order Out:  Mendocino Farms on April 16th
DESCRIPTION:  \nDine in or out 2pm to close at Mendocino Farms on W. Riverside Drive on April 16th\, 2025! \n  \nAll proceeds support LB25’s Class Project! \n  \nUse code GiveBack and bring the flyer! \n 
URL:https://leadershipburbank.org/event/dine-in-or-order-out-mendoncino-farms-on-april-16th/
LOCATION:Mendocino Farms on Riverside\, 4301 W. Riverside Drive\, Burbank\, 91505\, United States
ATTACH;FMTTYPE=image/png:https://leadershipburbank.org/wp-content/uploads/2025/03/mendocinofarms.flyer_.png
END:VEVENT
END:VCALENDAR