BEGIN:VCALENDAR
VERSION:2.0
PRODID:-//Leadership Burbank - ECPv6.15.20//NONSGML v1.0//EN
CALSCALE:GREGORIAN
METHOD:PUBLISH
X-WR-CALNAME:Leadership Burbank
X-ORIGINAL-URL:https://leadershipburbank.org
X-WR-CALDESC:Events for Leadership Burbank
REFRESH-INTERVAL;VALUE=DURATION:PT1H
X-Robots-Tag:noindex
X-PUBLISHED-TTL:PT1H
BEGIN:VTIMEZONE
TZID:UTC
BEGIN:STANDARD
TZOFFSETFROM:+0000
TZOFFSETTO:+0000
TZNAME:UTC
DTSTART:20250101T000000
END:STANDARD
END:VTIMEZONE
BEGIN:VEVENT
DTSTART;TZID=UTC:20260326T173000
DTEND;TZID=UTC:20260326T193000
DTSTAMP:20260425T011512
CREATED:20260315T001832Z
LAST-MODIFIED:20260315T003134Z
UID:15458-1774546200-1774553400@leadershipburbank.org
SUMMARY:LB26's Loads of Love Mixer at the Burbank Chamber
DESCRIPTION:Calling all alumni\, donors and Board members to support LB26’s class project: New Day Laundry!\nJoin Leadership Burbank Class of 2026 at their mixer “Loads of Love” on Thursday\, March 26th at the Burbank Chamber \nWhat: LB26 will be hosting lite bites\, wine and beer\, and loads of love for their class project! Class members will share the goals of New Day Laundry and host guest speaker\, LB Alumni and Burbank’s Vice Mayor\, Zizette Mullins. Every quarter counts in this new mobile laundry service that expands the current programs of the Salvation Army benefiting individuals and families in need! \nHow Much: Tickets are $25 and can be ordered online in advance through this link or you can pay at the door! \nWhere: Burbank Chamber of Commerce Board Room and Outside Terrace at 200 W Magnolia Blvd. in Burbank. Parking is on the surrounding streets \nWhen: Thursday\, March 26th from 5:30pm to 7:30pm \nLearn more about the class project at: www.LeadershipBurbank.org/NewDayLaundry \n  \nOrder Your Ticket for the Mixer\, Sponsor the Class Project or Make a Donation Today\n \n 
URL:https://leadershipburbank.org/event/lb26loadsoflove/
LOCATION:Burbank Chamber of Commerce\, 200 W Magnolia Blvd\,\, Burbank\, CA\, 91502\, United States
ATTACH;FMTTYPE=image/png:https://leadershipburbank.org/wp-content/uploads/2026/03/LoadsofLove_FINAL_031126.png
END:VEVENT
BEGIN:VEVENT
DTSTART;TZID=UTC:20260429T180000
DTEND;TZID=UTC:20260429T210000
DTSTAMP:20260425T011512
CREATED:20260405T233958Z
LAST-MODIFIED:20260418T224342Z
UID:15479-1777485600-1777496400@leadershipburbank.org
SUMMARY:LB26 NEW DAY DISCO
DESCRIPTION:Get your groove on with LB26 at our totally disco fundraising event and help us reach our class project goals for New Day Laundry: A Mobile Laundry Solution for Burbank\n\nWednesday\, April 29th from 6pm to 9pm at the VFW 8310 The Gudgeon in Burbank!\n\n\nTickets are $50 and sponsorship opportunities are available!\n\nWear your groovy threads and get ready to disco! We are hosting food/drinks\, and a stellar silent auction with packages that will rock your world.\nDig it?\n\n\n\n\nOrder Your Tickets or Become a Sponsor Today\n\n\n\n😏 Silent Auction Preview — New Day Disco \nHere’s a sneak peek at what’s up for grabs at the auction: \n🌟 Signed merch from The Mandalorian \n🎨 Original painting by a Disney character designer \n📦 Disney basket \n🎫 Tickets to the Dodgers\, Kings Hockey\, Fonda\, El Rey & The Roxy \n🌼 Gifts from Wildflower Acupuncture & The Enchanted Florist \n…and more items still being added! \n\n\n\n\nLearn More about New Day Laundry
URL:https://leadershipburbank.org/event/newdaydisco/
LOCATION:Veterans of Foreign Wars Hall\, 1006 W Magnolia Blvd.\, Burbank\, 91506\, United States
ATTACH;FMTTYPE=image/png:https://leadershipburbank.org/wp-content/uploads/2026/04/New-Day-Disco-png.png
END:VEVENT
END:VCALENDAR