BEGIN:VCALENDAR
VERSION:2.0
PRODID:-//Leadership Burbank - ECPv6.15.20//NONSGML v1.0//EN
CALSCALE:GREGORIAN
METHOD:PUBLISH
X-ORIGINAL-URL:https://leadershipburbank.org
X-WR-CALDESC:Events for Leadership Burbank
REFRESH-INTERVAL;VALUE=DURATION:PT1H
X-Robots-Tag:noindex
X-PUBLISHED-TTL:PT1H
BEGIN:VTIMEZONE
TZID:UTC
BEGIN:STANDARD
TZOFFSETFROM:+0000
TZOFFSETTO:+0000
TZNAME:UTC
DTSTART:20210101T000000
END:STANDARD
END:VTIMEZONE
BEGIN:VEVENT
DTSTART;TZID=UTC:20220928T173000
DTEND;TZID=UTC:20220928T193000
DTSTAMP:20260424T202446
CREATED:20220919T184802Z
LAST-MODIFIED:20220919T185237Z
UID:14072-1664386200-1664393400@leadershipburbank.org
SUMMARY:2022 City of Burbank City Council Forum
DESCRIPTION:Join the Burbank Chamber of Commerce and Leadership Burbank at the Burbank City Council Candidate Forum on Wednesday\, September 28th beginning at 5:30pm at Woodbury University.  \nMeet your five candidates running for three City Council seats and mix and mingle with leaders from across all sectors of Burbank.  \nRSVP is required for entry:  https://forms.gle/c1X1DLq6RBJAeUWp7 \nBurbank Chamber of Commerce and Leadership Burbank City Council Candidate Forum is free\, non-partisan\, and open to the public. Woodbury University\, Burbank Chamber of Commerce or Leadership Burbank does not support or oppose candidates or political parties.
URL:https://leadershipburbank.org/event/2022-city-of-burbank-city-council-forum/
LOCATION:Woodbury University\, 7500 N Glenoaks Blvd.\, Burbank\, 91504\, United States
END:VEVENT
END:VCALENDAR