BEGIN:VCALENDAR
VERSION:2.0
PRODID:-//Leadership Burbank - ECPv6.15.20//NONSGML v1.0//EN
CALSCALE:GREGORIAN
METHOD:PUBLISH
X-WR-CALNAME:Leadership Burbank
X-ORIGINAL-URL:https://leadershipburbank.org
X-WR-CALDESC:Events for Leadership Burbank
REFRESH-INTERVAL;VALUE=DURATION:PT1H
X-Robots-Tag:noindex
X-PUBLISHED-TTL:PT1H
BEGIN:VTIMEZONE
TZID:America/Los_Angeles
BEGIN:DAYLIGHT
TZOFFSETFROM:-0800
TZOFFSETTO:-0700
TZNAME:PDT
DTSTART:20210314T100000
END:DAYLIGHT
BEGIN:STANDARD
TZOFFSETFROM:-0700
TZOFFSETTO:-0800
TZNAME:PST
DTSTART:20211107T090000
END:STANDARD
BEGIN:DAYLIGHT
TZOFFSETFROM:-0800
TZOFFSETTO:-0700
TZNAME:PDT
DTSTART:20220313T100000
END:DAYLIGHT
BEGIN:STANDARD
TZOFFSETFROM:-0700
TZOFFSETTO:-0800
TZNAME:PST
DTSTART:20221106T090000
END:STANDARD
BEGIN:DAYLIGHT
TZOFFSETFROM:-0800
TZOFFSETTO:-0700
TZNAME:PDT
DTSTART:20230312T100000
END:DAYLIGHT
BEGIN:STANDARD
TZOFFSETFROM:-0700
TZOFFSETTO:-0800
TZNAME:PST
DTSTART:20231105T090000
END:STANDARD
END:VTIMEZONE
BEGIN:VEVENT
DTSTART;TZID=America/Los_Angeles:20220713T173000
DTEND;TZID=America/Los_Angeles:20220713T193000
DTSTAMP:20260424T154351
CREATED:20220621T213158Z
LAST-MODIFIED:20220622T212009Z
UID:13968-1657733400-1657740600@leadershipburbank.org
SUMMARY:LB23 Recruitment Mixer July 13th
DESCRIPTION:  \n  \nJoin the Leadership Burbank Board of Directors at the last recruitment mixer for the class of 2022-2023. \nWednesday\, July 13th from 5:30pm to 7:00pm at the Burbank Chamber of Commerce. \nPlease rsvp: Click Here to RSVP
URL:https://leadershipburbank.org/event/lb23-recruitment-mixer/
END:VEVENT
END:VCALENDAR